BEGIN:VCALENDAR
VERSION:2.0
PRODID:-//Le Pugilat des Étoiles - ECPv4.6.2//NONSGML v1.0//EN
CALSCALE:GREGORIAN
METHOD:PUBLISH
X-WR-CALNAME:Le Pugilat des Étoiles
X-ORIGINAL-URL:https://pugilatdesetoiles.com
X-WR-CALDESC:Events for Le Pugilat des Étoiles
BEGIN:VEVENT
DTSTART;TZID=Europe/Paris:20180523T180000
DTEND;TZID=Europe/Paris:20180523T180000
DTSTAMP:20260419T115746
CREATED:20180503T104638Z
LAST-MODIFIED:20180514T095343Z
UID:4981-1527098400-1527098400@pugilatdesetoiles.com
SUMMARY:Vidéo de Donut
DESCRIPTION:
URL:https://pugilatdesetoiles.com/evenement/video-de-donut-4/
END:VEVENT
END:VCALENDAR