BEGIN:VCALENDAR
VERSION:2.0
PRODID:-//Le Pugilat des Étoiles - ECPv4.6.2//NONSGML v1.0//EN
CALSCALE:GREGORIAN
METHOD:PUBLISH
X-WR-CALNAME:Le Pugilat des Étoiles
X-ORIGINAL-URL:https://pugilatdesetoiles.com
X-WR-CALDESC:Events for Le Pugilat des Étoiles
BEGIN:VEVENT
DTSTART;TZID=Europe/Paris:20180530T180000
DTEND;TZID=Europe/Paris:20180530T180000
DTSTAMP:20260419T132057
CREATED:20180417T140923Z
LAST-MODIFIED:20180530T180840Z
UID:4832-1527703200-1527703200@pugilatdesetoiles.com
SUMMARY:Vidéo de TPK
DESCRIPTION:
URL:https://pugilatdesetoiles.com/evenement/video-de-lifeiscool-5/
END:VEVENT
END:VCALENDAR